BEGIN:VCALENDAR
VERSION:2.0
METHOD:PUBLISH
PRODID:-//hacksw/handcal//NONSGML v1.0//EN
BEGIN:VEVENT
DTSTAMP:20260425T192905Z
DTSTART:20210809T180000Z
DTEND:20210809T193000Z
UID:20210809T180000Z-20210809T193000Z-903@dnrec.delaware.gov
SUMMARY:WIAC Finance Subcommittee
DESCRIPTION:A meeting to review materials for the Water Infrastructure
  Advisory Council.
X-ALT-DESC;FMTTYPE=text/html:<p>A meeting to review materials for the 
 Water Infrastructure Advisory Council.</p>\n
URL:https://dnrec.delaware.gov/events/water-infrastructure-advisory-co
 uncil-finance-subcommittee-meeting-5/?lang=en
ATTACH:https://dnrec.delaware.gov/events/water-infrastructure-advisory
 -council-finance-subcommittee-meeting-5/?lang=en
END:VEVENT
END:VCALENDAR
