BEGIN:VCALENDAR
VERSION:2.0
METHOD:PUBLISH
PRODID:-//hacksw/handcal//NONSGML v1.0//EN
BEGIN:VEVENT
DTSTAMP:20260425T220510Z
DTSTART:20210607T180000Z
DTEND:20210607T193000Z
UID:20210607T180000Z-20210607T193000Z-902@dnrec.delaware.gov
SUMMARY:WIAC Finance Subcommittee
DESCRIPTION:A meeting to review materials for the Water Infrastructure
  Advisory Council.
X-ALT-DESC;FMTTYPE=text/html:<p>A meeting to review materials for the 
 Water Infrastructure Advisory Council.</p>\n
URL:https://dnrec.delaware.gov/events/water-infrastructure-advisory-co
 uncil-finance-subcommittee-meeting-4/?lang=en
ATTACH:https://dnrec.delaware.gov/events/water-infrastructure-advisory
 -council-finance-subcommittee-meeting-4/?lang=en
END:VEVENT
END:VCALENDAR
