BEGIN:VCALENDAR
VERSION:2.0
METHOD:PUBLISH
PRODID:-//hacksw/handcal//NONSGML v1.0//EN
BEGIN:VEVENT
DTSTAMP:20260425T161647Z
DTSTART:20210602T130000Z
DTEND:20210602T150000Z
UID:20210602T130000Z-20210602T150000Z-890@dnrec.delaware.gov
SUMMARY:WIAC Surface Water Subcommittee
DESCRIPTION:A meeting to review materials for the Water Infrastructure
  Advisory Council.
X-ALT-DESC;FMTTYPE=text/html:<p>A meeting to review materials for the 
 Water Infrastructure Advisory Council. </p>\n
URL:https://dnrec.delaware.gov/events/water-infrastructure-advisory-co
 uncil-surface-water-subcommittee-meeting-5/?lang=en
ATTACH:https://dnrec.delaware.gov/events/water-infrastructure-advisory
 -council-surface-water-subcommittee-meeting-5/?lang=en
END:VEVENT
END:VCALENDAR
