BEGIN:VCALENDAR
VERSION:2.0
METHOD:PUBLISH
PRODID:-//hacksw/handcal//NONSGML v1.0//EN
BEGIN:VEVENT
DTSTAMP:20260426T013828Z
DTSTART:20201013T170000Z
DTEND:20201013T180000Z
UID:20201013T170000Z-20201013T180000Z-821@dnrec.delaware.gov
SUMMARY:Energy Efficiency Advisory Council EM&V Workgroup Meeting
DESCRIPTION:A virtual meeting of the Evaluation\, Measurement\, and Ve
 rification (EM&V) Subcommittee of the Delaware Energy Efficiency Advis
 ory Council.
X-ALT-DESC;FMTTYPE=text/html:<p>A virtual meeting of the Evaluation\, 
 Measurement\, and Verification (EM&amp\;V) Subcommittee of the Delawar
 e Energy Efficiency Advisory Council.</p>\n
URL:https://dnrec.delaware.gov/events/energy-efficiency-advisory-counc
 il-emv-workgroup-meeting-2/?lang=en
ATTACH:https://dnrec.delaware.gov/events/energy-efficiency-advisory-co
 uncil-emv-workgroup-meeting-2/?lang=en
END:VEVENT
END:VCALENDAR
