BEGIN:VCALENDAR
VERSION:2.0
METHOD:PUBLISH
PRODID:-//hacksw/handcal//NONSGML v1.0//EN
BEGIN:VEVENT
DTSTAMP:20260425T123113Z
DTSTART:20210818T130000Z
DTEND:20210818T160000Z
UID:20210818T130000Z-20210818T160000Z-801@dnrec.delaware.gov
SUMMARY:Water Infrastructure Advisory Council
DESCRIPTION:A meeting to discuss clean water\, drinking water\, and st
 ormwater issues.
X-ALT-DESC;FMTTYPE=text/html:<p>A meeting to discuss clean water\, dri
 nking water\, and stormwater issues.</p>\n
URL:https://dnrec.delaware.gov/events/water-infrastructure-advisory-co
 uncil-9/?lang=en
ATTACH:https://dnrec.delaware.gov/events/water-infrastructure-advisory
 -council-9/?lang=en
LOCATION:DNREC Training Room\, Enterprise Business Park\, 97 Commerce 
 Way\, Dover
END:VEVENT
END:VCALENDAR
