BEGIN:VCALENDAR
VERSION:2.0
METHOD:PUBLISH
PRODID:-//hacksw/handcal//NONSGML v1.0//EN
BEGIN:VEVENT
DTSTAMP:20260423T175031Z
DTSTART:20200924T230000Z
DTEND:20200925T003000Z
UID:20200924T230000Z-20200925T003000Z-780@dnrec.delaware.gov
SUMMARY:Community Environmental Project Fund Grant Workshop
DESCRIPTION:Learn about Community Environmental Project Fund (CEPF) re
 storation grants and how to apply for them.
X-ALT-DESC;FMTTYPE=text/html:<p>Learn about Community Environmental Pr
 oject Fund (CEPF) restoration grants and how to apply for them.</p>\n
URL:https://dnrec.delaware.gov/events/community-environmental-project-
 fund-grant-workshop-2/?lang=en
ATTACH:https://dnrec.delaware.gov/events/community-environmental-proje
 ct-fund-grant-workshop-2/?lang=en
END:VEVENT
END:VCALENDAR
