BEGIN:VCALENDAR
VERSION:2.0
METHOD:PUBLISH
PRODID:-//hacksw/handcal//NONSGML v1.0//EN
BEGIN:VEVENT
DTSTAMP:20260423T201202Z
DTSTART:20200811T130000Z
DTEND:20200811T130000Z
UID:20200811T130000Z-20200811T130000Z-718@dnrec.delaware.gov
SUMMARY:Environmental Appeals Board Hearing\, Delmarsh\, LLC
DESCRIPTION:The Environmental Appeals Board will hold a virtual hearin
 g on Appeal No. 2020-03\, Delmarsh\, LLC.
X-ALT-DESC;FMTTYPE=text/html:<p>The Environmental Appeals Board will h
 old a virtual hearing on Appeal No. 2020-03\, Delmarsh\, LLC.</p>\n
URL:https://dnrec.delaware.gov/events/environmental-appeals-board-hear
 ing-delmarsh-llc/?lang=en
ATTACH:https://dnrec.delaware.gov/events/environmental-appeals-board-h
 earing-delmarsh-llc/?lang=en
END:VEVENT
END:VCALENDAR
