BEGIN:VCALENDAR
VERSION:2.0
METHOD:PUBLISH
PRODID:-//hacksw/handcal//NONSGML v1.0//EN
BEGIN:VEVENT
DTSTAMP:20260425T123115Z
DTSTART:20200819T130000Z
DTEND:20200819T130000Z
UID:20200819T130000Z-20200819T130000Z-649@dnrec.delaware.gov
SUMMARY:Water Infrastructure Advisory Council
DESCRIPTION:A meeting to discuss clean water\, drinking water\, and st
 ormwater issues. THis will be a virtual meeting.
X-ALT-DESC;FMTTYPE=text/html:<p>A meeting to discuss clean water\, dri
 nking water\, and stormwater issues. THis will be a virtual meeting.</
 p>\n
URL:https://dnrec.delaware.gov/events/water-infrastructure-advisory-co
 uncil-3/?lang=en
ATTACH:https://dnrec.delaware.gov/events/water-infrastructure-advisory
 -council-3/?lang=en
END:VEVENT
END:VCALENDAR
