BEGIN:VCALENDAR
VERSION:2.0
METHOD:PUBLISH
PRODID:-//hacksw/handcal//NONSGML v1.0//EN
BEGIN:VEVENT
DTSTAMP:20260423T072718Z
DTSTART:20191203T230000Z
DTEND:20191203T230000Z
UID:20191203T230000Z-20191203T230000Z-458@dnrec.delaware.gov
SUMMARY:Public Hearing: Proposed Amendments to 7 DE Admin. Code 2101 (
 Regulations for State Energy Conservation Code)
DESCRIPTION:The DNREC Division of Climate\, Coastal\, & Energy will co
 nduct a public hearing on proposed revisions to the Regulations for th
 e State Energy Conservation Code (Docket #2019-R-CCE-0020). (Public Co
 mment Period Closed)
X-ALT-DESC;FMTTYPE=text/html:<p>The DNREC Division of Climate\, Coasta
 l\, &amp\; Energy will conduct a public hearing on proposed revisions 
 to the Regulations for the State Energy Conservation Code (Docket #201
 9-R-CCE-0020). <strong>(Public Comment Period Closed)</strong> </p>\n
URL:https://dnrec.delaware.gov/events/public-hearing-regulations-for-s
 tate-energy-conservation-code/?lang=en
ATTACH:https://dnrec.delaware.gov/events/public-hearing-regulations-fo
 r-state-energy-conservation-code/?lang=en
LOCATION:DNREC Auditorium\, 89 Kings Highway\, Dover
END:VEVENT
END:VCALENDAR
