BEGIN:VCALENDAR
VERSION:2.0
METHOD:PUBLISH
PRODID:-//hacksw/handcal//NONSGML v1.0//EN
BEGIN:VEVENT
DTSTAMP:20260423T235447Z
DTSTART:20190613T220000Z
DTEND:20190613T220000Z
UID:20190613T220000Z-20190613T220000Z-397@dnrec.delaware.gov
SUMMARY:Public Hearing: Artesian Wastewater Management\, Inc.
DESCRIPTION:The DNREC Division of Water will conduct a public hearing 
 on an application by Artesian Wastewater Management\, Inc.\, for a Was
 tewater Facilities Construction Permit to construct 5\,589 linear feet
  of forcemain from the Sussex Regional Recharge Facility to two spray 
 fields. (Public Comment Period Closed)
X-ALT-DESC;FMTTYPE=text/html:<p>The DNREC Division of Water will condu
 ct a public hearing on an application by Artesian Wastewater Managemen
 t\, Inc.\, for a Wastewater Facilities Construction Permit to construc
 t 5\,589 linear feet of forcemain from the Sussex Regional Recharge Fa
 cility to two spray fields. <strong>(Public Comment Period Closed)</st
 rong></p>\n
URL:https://dnrec.delaware.gov/events/public-hearing-artesian-wastewat
 er-management-inc/?lang=en
ATTACH:https://dnrec.delaware.gov/events/public-hearing-artesian-waste
 water-management-inc/?lang=en
LOCATION:Mariner Middle School\, 16391 Harbeson Rd.\, Milton
END:VEVENT
END:VCALENDAR
