BEGIN:VCALENDAR
VERSION:2.0
METHOD:PUBLISH
PRODID:-//hacksw/handcal//NONSGML v1.0//EN
BEGIN:VEVENT
DTSTAMP:20260422T232427Z
DTSTART:20190529T220000Z
DTEND:20190529T220000Z
UID:20190529T220000Z-20190529T220000Z-391@dnrec.delaware.gov
SUMMARY:Public Hearing: Delaware Recyclable Products\, Inc. (DRPI) Ind
 ustrial Waste Landfill Permit
DESCRIPTION:The DNREC Division of Waste and Hazardous Substances will 
 conduct a public hearing on the Industrial Waste Landfill permit modif
 ication submitted by Delaware Recyclable Products\, Inc.\, for the fac
 ility at 246 Marsh Lane\, in New Castle. (Public Comment Period Closed
 )
X-ALT-DESC;FMTTYPE=text/html:<p>The DNREC Division of Waste and Hazard
 ous Substances will conduct a public hearing on the Industrial Waste L
 andfill permit modification submitted by Delaware Recyclable Products\
 , Inc.\, for the facility at 246 Marsh Lane\, in New Castle. (<strong>
 Public Comment Period Closed</strong>)</p>\n
URL:https://dnrec.delaware.gov/events/public-hearing-delaware-recyclab
 le-products-inc-drpi-industrial-waste-landfill-permit/?lang=en
ATTACH:https://dnrec.delaware.gov/events/public-hearing-delaware-recyc
 lable-products-inc-drpi-industrial-waste-landfill-permit/?lang=en
LOCATION:Minquadale Fire Company\, 129 E. Hazeldell Avenue\, New Castl
 e
END:VEVENT
END:VCALENDAR
