BEGIN:VCALENDAR
VERSION:2.0
METHOD:PUBLISH
PRODID:-//hacksw/handcal//NONSGML v1.0//EN
BEGIN:VEVENT
DTSTAMP:20260424T161556Z
DTSTART:20190608T140000Z
DTEND:20190608T190000Z
UID:20190608T140000Z-20190608T190000Z-374@dnrec.delaware.gov
SUMMARY:Water Family Fest
DESCRIPTION:Bring the family and learn about efforts improve and prote
 ct your waters and ecosystems.
X-ALT-DESC;FMTTYPE=text/html:<p>Bring the family and learn about effor
 ts improve and protect your waters and ecosystems.</p>\n
URL:https://dnrec.delaware.gov/events/374/water-family-fest/?lang=en
ATTACH:https://dnrec.delaware.gov/events/374/water-family-fest/?lang=e
 n
LOCATION:James Farm Ecological Preserve\, 30048 Cedar Neck Road\, Ocea
 n View
END:VEVENT
END:VCALENDAR
