BEGIN:VCALENDAR
VERSION:2.0
METHOD:PUBLISH
PRODID:-//hacksw/handcal//NONSGML v1.0//EN
BEGIN:VEVENT
DTSTAMP:20260423T230319Z
DTSTART:20260620T130000Z
DTEND:20260620T160000Z
UID:20260620T130000Z-20260620T160000Z-3059@dnrec.delaware.gov
SUMMARY:Kayak Fishing for Adults
DESCRIPTION:Interested in adding fishing to your days out paddling? Co
 me to a kayak fishing class.
X-ALT-DESC;FMTTYPE=text/html:<p>Interested in adding fishing to your d
 ays out paddling? Come to a kayak fishing class.</p>\n
URL:https://dnrec.delaware.gov/events/kayak-fishing-for-adults/?lang=e
 n
ATTACH:https://dnrec.delaware.gov/events/kayak-fishing-for-adults/?lan
 g=en
LOCATION:Silver Lake Park\, \, Dover
END:VEVENT
END:VCALENDAR
