BEGIN:VCALENDAR
VERSION:2.0
METHOD:PUBLISH
PRODID:-//hacksw/handcal//NONSGML v1.0//EN
BEGIN:VEVENT
DTSTAMP:20260423T230318Z
DTSTART:20260926T130000Z
DTEND:20260926T160000Z
UID:20260926T130000Z-20260926T160000Z-3058@dnrec.delaware.gov
SUMMARY:Fly Fishing Class for Adults\, Part 2
DESCRIPTION:Get an introduction to fly-fishing equipment and technique
 s and try your hand at fly casting.
X-ALT-DESC;FMTTYPE=text/html:<p>Get an introduction to fly-fishing equ
 ipment and techniques and try your hand at fly casting.</p>\n
URL:https://dnrec.delaware.gov/events/fly-fishing-class-for-adults-par
 t-3/?lang=en
ATTACH:https://dnrec.delaware.gov/events/fly-fishing-class-for-adults-
 part-3/?lang=en
LOCATION:Aquatic Resources Education Center\, 2520 Lighthouse Road\, S
 myrna
END:VEVENT
END:VCALENDAR
