BEGIN:VCALENDAR
VERSION:2.0
METHOD:PUBLISH
PRODID:-//hacksw/handcal//NONSGML v1.0//EN
BEGIN:VEVENT
DTSTAMP:20260423T132610Z
DTSTART:20260506T140000Z
DTEND:20260506T150000Z
UID:20260506T140000Z-20260506T150000Z-3046@dnrec.delaware.gov
SUMMARY:Native Species Commission Education Subcommittee
DESCRIPTION:A meeting of the Education Subcommittee of the Delaware Na
 tive Species Commission.
X-ALT-DESC;FMTTYPE=text/html:<p>A meeting of the Education Subcommitte
 e of the Delaware Native Species Commission.</p>\n
URL:https://dnrec.delaware.gov/events/native-species-commission-educat
 ion-subcommittee-14/?lang=en
ATTACH:https://dnrec.delaware.gov/events/native-species-commission-edu
 cation-subcommittee-14/?lang=en
LOCATION:A Virtual Meeting\, See Connection Information\,
END:VEVENT
END:VCALENDAR
