BEGIN:VCALENDAR
VERSION:2.0
METHOD:PUBLISH
PRODID:-//hacksw/handcal//NONSGML v1.0//EN
BEGIN:VEVENT
DTSTAMP:20260424T005024Z
DTSTART:20260723T130000Z
DTEND:20260723T203000Z
UID:20260723T130000Z-20260723T203000Z-3044@dnrec.delaware.gov
SUMMARY:Facilitation Basics for Coastal Managers
DESCRIPTION:Learn some of the skills needed to run\, or participate in
 \, effective meetings.
X-ALT-DESC;FMTTYPE=text/html:<p>Learn some of the skills needed to run
 \, or participate in\, effective meetings.</p>\n
URL:https://dnrec.delaware.gov/events/facilitation-basics-for-coastal-
 managers-2/?lang=en
ATTACH:https://dnrec.delaware.gov/events/facilitation-basics-for-coast
 al-managers-2/?lang=en
LOCATION:St. Jones Coastal Training Center\, 818 Kitts Hummock Rd.\, D
 over
END:VEVENT
END:VCALENDAR
