BEGIN:VCALENDAR
VERSION:2.0
METHOD:PUBLISH
PRODID:-//hacksw/handcal//NONSGML v1.0//EN
BEGIN:VEVENT
DTSTAMP:20260421T215541Z
DTSTART:20260425T120000Z
DTEND:20260425T200000Z
UID:20260425T120000Z-20260425T200000Z-3043@dnrec.delaware.gov
SUMMARY:Saturday Open Day at the St. Jones Reserve
DESCRIPTION:For one special Saturday this month\, the visitor center a
 t St. Jones Reserve is open to the public.
X-ALT-DESC;FMTTYPE=text/html:<p>For one special Saturday this month\, 
 the visitor center at St. Jones Reserve is open to the public.</p>\n
URL:https://dnrec.delaware.gov/events/saturday-open-day-at-the-st-jone
 s-reserve/?lang=en
ATTACH:https://dnrec.delaware.gov/events/saturday-open-day-at-the-st-j
 ones-reserve/?lang=en
LOCATION:St. Jones Reserve\, 818 Kitts Hummock Rd.\, Dover
END:VEVENT
END:VCALENDAR
