BEGIN:VCALENDAR
VERSION:2.0
METHOD:PUBLISH
PRODID:-//hacksw/handcal//NONSGML v1.0//EN
BEGIN:VEVENT
DTSTAMP:20260421T215540Z
DTSTART:20260425T140000Z
DTEND:20260425T153000Z
UID:20260425T140000Z-20260425T153000Z-3039@dnrec.delaware.gov
SUMMARY:Earth Day Seedling Potting at the St. Jones Reserve
DESCRIPTION:Join Reserve staff at the St. Jones Reserve in celebration
  of Earth Day to pot native plant seedlings!
X-ALT-DESC;FMTTYPE=text/html:<p>Join Reserve staff at the St. Jones Re
 serve in celebration of Earth Day to pot native plant seedlings! </p>\
 n
URL:https://dnrec.delaware.gov/events/earth-day-seedling-potting-at-th
 e-st-jones-reserve-2/?lang=en
ATTACH:https://dnrec.delaware.gov/events/earth-day-seedling-potting-at
 -the-st-jones-reserve-2/?lang=en
LOCATION:St. Jones Reserve\, 818 Kitts Hummock Rd.\, Dover
END:VEVENT
END:VCALENDAR
