BEGIN:VCALENDAR
VERSION:2.0
METHOD:PUBLISH
PRODID:-//hacksw/handcal//NONSGML v1.0//EN
BEGIN:VEVENT
DTSTAMP:20260421T182503Z
DTSTART:20260319T220000Z
DTEND:20260319T223000Z
UID:20260319T220000Z-20260319T223000Z-3037@dnrec.delaware.gov
SUMMARY:Natural Resources Police – Police Accountability Committee
DESCRIPTION:Meeting of the Natural Resources Police – Police Accountab
 ility Committee.
X-ALT-DESC;FMTTYPE=text/html:<p>Meeting of the Natural Resources Polic
 e – Police Accountability Committee.</p>\n
URL:https://dnrec.delaware.gov/events/natural-resources-police-e2-80-9
 3-police-accountability-committee/?lang=en
ATTACH:https://dnrec.delaware.gov/events/natural-resources-police-e2-8
 0-93-police-accountability-committee/?lang=en
LOCATION:DNREC Richardson and Robbins Building\, 89 Kings Highway\, Do
 ver
END:VEVENT
END:VCALENDAR
