BEGIN:VCALENDAR
VERSION:2.0
METHOD:PUBLISH
PRODID:-//hacksw/handcal//NONSGML v1.0//EN
BEGIN:VEVENT
DTSTAMP:20260421T183015Z
DTSTART:20260429T170000Z
DTEND:20260429T190000Z
UID:20260429T170000Z-20260429T190000Z-3036@dnrec.delaware.gov
SUMMARY:Energy Efficiency Advisory Council
DESCRIPTION:A meeting of the Delaware Energy Efficiency Advisory Counc
 il.
X-ALT-DESC;FMTTYPE=text/html:<p>A meeting of the Delaware Energy Effic
 iency Advisory Council.</p>\n
URL:https://dnrec.delaware.gov/events/energy-efficiency-advisory-counc
 il-21/?lang=en
ATTACH:https://dnrec.delaware.gov/events/energy-efficiency-advisory-co
 uncil-21/?lang=en
LOCATION:DNREC Water Street Offices\, Suite 10B\, 100 West Water Stree
 t\, Dover
END:VEVENT
END:VCALENDAR
