BEGIN:VCALENDAR
VERSION:2.0
METHOD:PUBLISH
PRODID:-//hacksw/handcal//NONSGML v1.0//EN
BEGIN:VEVENT
DTSTAMP:20260421T183015Z
DTSTART:20260423T170000Z
DTEND:20260423T200000Z
UID:20260423T170000Z-20260423T200000Z-3035@dnrec.delaware.gov
SUMMARY:Renewable Energy Taskforce
DESCRIPTION:A meeting of the Renewable Energy Taskforce.
X-ALT-DESC;FMTTYPE=text/html:<p>A meeting of the Renewable Energy Task
 force.</p>\n
URL:https://dnrec.delaware.gov/events/renewable-energy-taskforce-36/?l
 ang=en
ATTACH:https://dnrec.delaware.gov/events/renewable-energy-taskforce-36
 /?lang=en
LOCATION:State Street Commons\, Suite 6A\, 100 W. Water Street\, Dover
END:VEVENT
END:VCALENDAR
