BEGIN:VCALENDAR
VERSION:2.0
METHOD:PUBLISH
PRODID:-//hacksw/handcal//NONSGML v1.0//EN
BEGIN:VEVENT
DTSTAMP:20260424T020900Z
DTSTART:20260910T140000Z
DTEND:20260910T160000Z
UID:20260910T140000Z-20260910T160000Z-3029@dnrec.delaware.gov
SUMMARY:Natural Areas Advisory Council
DESCRIPTION:Quarterly Meeting of the Natural Areas Advisory Council.
X-ALT-DESC;FMTTYPE=text/html:<p>Quarterly Meeting of the Natural Areas
  Advisory Council.</p>\n
URL:https://dnrec.delaware.gov/events/natural-areas-advisory-council-2
 0/?lang=en
ATTACH:https://dnrec.delaware.gov/events/natural-areas-advisory-counci
 l-20/?lang=en
LOCATION:To Be Announced\, \, Dover
END:VEVENT
END:VCALENDAR
