BEGIN:VCALENDAR
VERSION:2.0
METHOD:PUBLISH
PRODID:-//hacksw/handcal//NONSGML v1.0//EN
BEGIN:VEVENT
DTSTAMP:20260424T020900Z
DTSTART:20260611T140000Z
DTEND:20260611T160000Z
UID:20260611T140000Z-20260611T160000Z-3028@dnrec.delaware.gov
SUMMARY:Natural Areas Advisory Council
DESCRIPTION:Quarterly Meeting of the Natural Areas Advisory Council.
X-ALT-DESC;FMTTYPE=text/html:<p>Quarterly Meeting of the Natural Areas
  Advisory Council.</p>\n
URL:https://dnrec.delaware.gov/events/natural-areas-advisory-council-1
 9/?lang=en
ATTACH:https://dnrec.delaware.gov/events/natural-areas-advisory-counci
 l-19/?lang=en
LOCATION:To Be Announced\, \, Dover
END:VEVENT
END:VCALENDAR
