BEGIN:VCALENDAR
VERSION:2.0
METHOD:PUBLISH
PRODID:-//hacksw/handcal//NONSGML v1.0//EN
BEGIN:VEVENT
DTSTAMP:20260423T213725Z
DTSTART:20260817T140000Z
DTEND:20260817T170000Z
UID:20260817T140000Z-20260817T170000Z-3017@dnrec.delaware.gov
SUMMARY:Take A Kid Fishing!
DESCRIPTION:Bring a kid out for free fishing lessons with the DNREC Ta
 ke a Kid Fishing! program.
X-ALT-DESC;FMTTYPE=text/html:<p>Bring a kid out for free fishing lesso
 ns with the DNREC Take a Kid Fishing! program.</p>\n
URL:https://dnrec.delaware.gov/events/take-a-kid-fishing-73/?lang=en
ATTACH:https://dnrec.delaware.gov/events/take-a-kid-fishing-73/?lang=e
 n
LOCATION:Holt's Landing State Park\, Holts Landing Road\, Dagsboro
END:VEVENT
END:VCALENDAR
