BEGIN:VCALENDAR
VERSION:2.0
METHOD:PUBLISH
PRODID:-//hacksw/handcal//NONSGML v1.0//EN
BEGIN:VEVENT
DTSTAMP:20260425T102923Z
DTSTART:20260304T140000Z
DTEND:20260304T160000Z
UID:20260304T140000Z-20260304T160000Z-2963@dnrec.delaware.gov
SUMMARY:WIAC Surface Water Subcommittee
DESCRIPTION:A meeting to review materials for the Water Infrastructure
  Advisory Council (WIAC).
X-ALT-DESC;FMTTYPE=text/html:<p>A meeting to review materials for the 
 Water Infrastructure Advisory Council (WIAC). </p>\n
URL:https://dnrec.delaware.gov/events/wiac-surface-water-subcommittee-
 17/?lang=en
ATTACH:https://dnrec.delaware.gov/events/wiac-surface-water-subcommitt
 ee-17/?lang=en
LOCATION:Sussex Conservation District Offices\, 23818 Shortly Rd.\, Ge
 orgetown
END:VEVENT
END:VCALENDAR
