BEGIN:VCALENDAR
VERSION:2.0
METHOD:PUBLISH
PRODID:-//hacksw/handcal//NONSGML v1.0//EN
BEGIN:VEVENT
DTSTAMP:20260423T195119Z
DTSTART:20260519T180000Z
DTEND:20260519T190000Z
UID:20260519T180000Z-20260519T190000Z-2956@dnrec.delaware.gov
SUMMARY:HSCA Advisory Committee Technical Subcommittee
DESCRIPTION:The Technical Subcommittee will meet to review and provide
  input regarding technical matters for the HSCA Advisory Committee.
X-ALT-DESC;FMTTYPE=text/html:<p>The Technical Subcommittee will meet t
 o review and provide input regarding technical matters for the HSCA Ad
 visory Committee.</p>\n
URL:https://dnrec.delaware.gov/events/hsca-advisory-committee-technica
 l-subcommittee-12/?lang=en
ATTACH:https://dnrec.delaware.gov/events/hsca-advisory-committee-techn
 ical-subcommittee-12/?lang=en
LOCATION:DNREC Lukens Drive Offices\, 391 Lukens Dr.\, New Castle
END:VEVENT
END:VCALENDAR
