BEGIN:VCALENDAR
VERSION:2.0
METHOD:PUBLISH
PRODID:-//hacksw/handcal//NONSGML v1.0//EN
BEGIN:VEVENT
DTSTAMP:20260424T155746Z
DTSTART:20260716T180000Z
DTEND:20260716T183000Z
UID:20260716T180000Z-20260716T183000Z-2912@dnrec.delaware.gov
SUMMARY:Top 3 in 30 Webinar: Community-Level Disaster Response
DESCRIPTION:Learn the top 3 things you need to know about disaster res
 ponse in Delaware at the community level.
X-ALT-DESC;FMTTYPE=text/html:<p>Learn the top 3 things you need to kno
 w about disaster response in Delaware at the community level.</p>\n
URL:https://dnrec.delaware.gov/events/top-3-in-30-webinar-community-le
 vel-disaster-response/?lang=en
ATTACH:https://dnrec.delaware.gov/events/top-3-in-30-webinar-community
 -level-disaster-response/?lang=en
LOCATION:A Virtual Meeting\, See Connection Information\,
END:VEVENT
END:VCALENDAR
