BEGIN:VCALENDAR
VERSION:2.0
METHOD:PUBLISH
PRODID:-//hacksw/handcal//NONSGML v1.0//EN
BEGIN:VEVENT
DTSTAMP:20260421T221728Z
DTSTART:20260618T180000Z
DTEND:20260618T183000Z
UID:20260618T180000Z-20260618T183000Z-2911@dnrec.delaware.gov
SUMMARY:Top 3 in 30 Webinar: Reforestation for Green Spaces
DESCRIPTION:Learn the top 3 things you need to know about reforesting 
 urban areas.
X-ALT-DESC;FMTTYPE=text/html:<p>Learn the top 3 things you need to kno
 w about reforesting urban areas.</p>\n
URL:https://dnrec.delaware.gov/events/top-3-in-30-webinar-reforestatio
 n-for-green-spaces/?lang=en
ATTACH:https://dnrec.delaware.gov/events/top-3-in-30-webinar-reforesta
 tion-for-green-spaces/?lang=en
LOCATION:A Virtual Meeting\, See Connection Information\,
END:VEVENT
END:VCALENDAR
