BEGIN:VCALENDAR
VERSION:2.0
METHOD:PUBLISH
PRODID:-//hacksw/handcal//NONSGML v1.0//EN
BEGIN:VEVENT
DTSTAMP:20260422T024717Z
DTSTART:20260121T150000Z
DTEND:20260121T170000Z
UID:20260121T150000Z-20260121T170000Z-2905@dnrec.delaware.gov
SUMMARY:Webinar: DNREC Air Quality Natural Minor ePermitting
DESCRIPTION:Learn how to use the Digital DNREC ePermitting process.
X-ALT-DESC;FMTTYPE=text/html:<p>Learn how to use the Digital DNREC ePe
 rmitting process.</p>\n
URL:https://dnrec.delaware.gov/events/webinar-dnrec-air-quality-natura
 l-minor-epermitting/?lang=en
ATTACH:https://dnrec.delaware.gov/events/webinar-dnrec-air-quality-nat
 ural-minor-epermitting/?lang=en
LOCATION:A Virtual Meeting\, See Connection Information\,
END:VEVENT
END:VCALENDAR
