BEGIN:VCALENDAR
VERSION:2.0
METHOD:PUBLISH
PRODID:-//hacksw/handcal//NONSGML v1.0//EN
BEGIN:VEVENT
DTSTAMP:20260421T170417Z
DTSTART:20260805T130000Z
DTEND:20260805T140000Z
UID:20260805T130000Z-20260805T140000Z-2863@dnrec.delaware.gov
SUMMARY:On-Site Systems Advisory Board
DESCRIPTION:The monthly meeting of the On-Site Systems Advisory Board.
X-ALT-DESC;FMTTYPE=text/html:<p>The monthly meeting of the On-Site Sys
 tems Advisory Board.</p>\n
URL:https://dnrec.delaware.gov/events/on-site-systems-advisory-board-7
 2/?lang=en
ATTACH:https://dnrec.delaware.gov/events/on-site-systems-advisory-boar
 d-72/?lang=en
LOCATION:Conference Room B136\, DNREC Offices\, 89 Kings Highway\, Dov
 er
END:VEVENT
END:VCALENDAR
