BEGIN:VCALENDAR
VERSION:2.0
METHOD:PUBLISH
PRODID:-//hacksw/handcal//NONSGML v1.0//EN
BEGIN:VEVENT
DTSTAMP:20260423T180447Z
DTSTART:20260825T223000Z
DTEND:20260826T003000Z
UID:20260825T223000Z-20260826T003000Z-2835@dnrec.delaware.gov
SUMMARY:Advisory Council on Wildlife and Freshwater Fish
DESCRIPTION:A meeting of the Advisory Council on Wildlife and Freshwat
 er Fish.
X-ALT-DESC;FMTTYPE=text/html:<p>A meeting of the Advisory Council on W
 ildlife and Freshwater Fish.</p>\n
URL:https://dnrec.delaware.gov/events/advisory-council-on-wildlife-and
 -freshwater-fish-54/?lang=en
ATTACH:https://dnrec.delaware.gov/events/advisory-council-on-wildlife-
 and-freshwater-fish-54/?lang=en
LOCATION:To Be Announced\, \, Dover
END:VEVENT
END:VCALENDAR
