BEGIN:VCALENDAR
VERSION:2.0
METHOD:PUBLISH
PRODID:-//hacksw/handcal//NONSGML v1.0//EN
BEGIN:VEVENT
DTSTAMP:20260421T220010Z
DTSTART:20260402T223000Z
DTEND:20260403T003000Z
UID:20260402T223000Z-20260403T003000Z-2833@dnrec.delaware.gov
SUMMARY:Advisory Council on Wildlife and Freshwater Fish
DESCRIPTION:A meeting of the Advisory Council on Wildlife and Freshwat
 er Fish.
X-ALT-DESC;FMTTYPE=text/html:<p>A meeting of the Advisory Council on W
 ildlife and Freshwater Fish.</p>\n
URL:https://dnrec.delaware.gov/events/advisory-council-on-wildlife-and
 -freshwater-fish-52/?lang=en
ATTACH:https://dnrec.delaware.gov/events/advisory-council-on-wildlife-
 and-freshwater-fish-52/?lang=en
LOCATION:Little Creek Hunter Education Training Center\, 3018 Bayside 
 Drive\, Dover
END:VEVENT
END:VCALENDAR
