BEGIN:VCALENDAR
VERSION:2.0
METHOD:PUBLISH
PRODID:-//hacksw/handcal//NONSGML v1.0//EN
BEGIN:VEVENT
DTSTAMP:20260423T103230Z
DTSTART:20251209T130000Z
DTEND:20251209T210000Z
UID:20251209T130000Z-20251209T210000Z-2810@dnrec.delaware.gov
SUMMARY:Teachers on the Estuary Workshop: Trash in Bird Nests
DESCRIPTION:Learn how to locate\, collect and deconstruct bird nests l
 ooking for trash
X-ALT-DESC;FMTTYPE=text/html:<p>Learn how to locate\, collect and deco
 nstruct bird nests looking for trash</p>\n
URL:https://dnrec.delaware.gov/events/teachers-on-the-estuary-workshop
 -trash-in-bird-nests/?lang=en
ATTACH:https://dnrec.delaware.gov/events/teachers-on-the-estuary-works
 hop-trash-in-bird-nests/?lang=en
LOCATION:St. Jones Coastal Training Center\, 818 Kitts Hummock Rd.\, D
 over
END:VEVENT
END:VCALENDAR
