BEGIN:VCALENDAR
VERSION:2.0
METHOD:PUBLISH
PRODID:-//hacksw/handcal//NONSGML v1.0//EN
BEGIN:VEVENT
DTSTAMP:20260421T234152Z
DTSTART:20251029T220000Z
DTEND:20251030T010000Z
UID:20251029T220000Z-20251030T010000Z-2804@dnrec.delaware.gov
SUMMARY:Wildlife Action Plan Listening Session
DESCRIPTION:Meet with DNREC staff to learn about the draft 2025 Delawa
 re Wildlife Action Plan.
X-ALT-DESC;FMTTYPE=text/html:<p>Meet with DNREC staff to learn about t
 he draft 2025 Delaware Wildlife Action Plan.</p>\n
URL:https://dnrec.delaware.gov/events/wildlife-action-plan-listening-s
 ession-2/?lang=en
ATTACH:https://dnrec.delaware.gov/events/wildlife-action-plan-listenin
 g-session-2/?lang=en
LOCATION:A Virtual Meeting\, See Connection Information\,
END:VEVENT
END:VCALENDAR
