BEGIN:VCALENDAR
VERSION:2.0
METHOD:PUBLISH
PRODID:-//hacksw/handcal//NONSGML v1.0//EN
BEGIN:VEVENT
DTSTAMP:20260421T220012Z
DTSTART:20251028T170000Z
DTEND:20251028T190000Z
UID:20251028T170000Z-20251028T190000Z-2803@dnrec.delaware.gov
SUMMARY:Wildlife Action Plan Listening Session
DESCRIPTION:Meet with DNREC staff to learn about the draft 2025 Delawa
 re Wildlife Action Plan.
X-ALT-DESC;FMTTYPE=text/html:<p>Meet with DNREC staff to learn about t
 he draft 2025 Delaware Wildlife Action Plan.</p>\n
URL:https://dnrec.delaware.gov/events/wildlife-action-plan-listening-s
 ession/?lang=en
ATTACH:https://dnrec.delaware.gov/events/wildlife-action-plan-listenin
 g-session/?lang=en
LOCATION:Little Creek Hunter Education Training Center\, 3018 Bayside 
 Drive\, Dover
END:VEVENT
END:VCALENDAR
