BEGIN:VCALENDAR
VERSION:2.0
METHOD:PUBLISH
PRODID:-//hacksw/handcal//NONSGML v1.0//EN
BEGIN:VEVENT
DTSTAMP:20260421T220007Z
DTSTART:20251001T213000Z
DTEND:20251001T230000Z
UID:20251001T213000Z-20251001T230000Z-2791@dnrec.delaware.gov
SUMMARY:Division of Parks and Recreation Open House
DESCRIPTION:Meet with DNREC leaders and provide feedback on a proposed
  fee schedule for Delaware State Parks.
X-ALT-DESC;FMTTYPE=text/html:<p>Meet with DNREC leaders and provide fe
 edback on a proposed fee schedule for Delaware State Parks.</p>\n
URL:https://dnrec.delaware.gov/events/division-of-parks-and-recreation
 -open-house-2/?lang=en
ATTACH:https://dnrec.delaware.gov/events/division-of-parks-and-recreat
 ion-open-house-2/?lang=en
LOCATION:Officer's Club\, Cape Henlopen State Park\, Lewes
END:VEVENT
END:VCALENDAR
