BEGIN:VCALENDAR
VERSION:2.0
METHOD:PUBLISH
PRODID:-//hacksw/handcal//NONSGML v1.0//EN
BEGIN:VEVENT
DTSTAMP:20260423T103357Z
DTSTART:20251101T130000Z
DTEND:20251101T150000Z
UID:20251101T130000Z-20251101T150000Z-2767@dnrec.delaware.gov
SUMMARY:Fall Tree Planting at Blackbird Creek Reserve
DESCRIPTION:Join a tree planting and help with the restoration of the 
 Blackbird Creek Reserve.
X-ALT-DESC;FMTTYPE=text/html:<p>Join a tree planting and help with the
  restoration of the Blackbird Creek Reserve.</p>\n
URL:https://dnrec.delaware.gov/events/fall-tree-planting-at-blackbird-
 creek-reserve-4/?lang=en
ATTACH:https://dnrec.delaware.gov/events/fall-tree-planting-at-blackbi
 rd-creek-reserve-4/?lang=en
LOCATION:Blackbird Creek Reserve\, 801 Blackbird Landing Rd.\, Townsen
 d
END:VEVENT
END:VCALENDAR
