BEGIN:VCALENDAR
VERSION:2.0
METHOD:PUBLISH
PRODID:-//hacksw/handcal//NONSGML v1.0//EN
BEGIN:VEVENT
DTSTAMP:20260422T103411Z
DTSTART:20251003T150000Z
DTEND:20251003T173000Z
UID:20251003T150000Z-20251003T173000Z-2754@dnrec.delaware.gov
SUMMARY:Rockwood Park Tree Giveaway
DESCRIPTION:New Castle County plans to give away trees as part of the 
 Tree for Every Delawarean Initiative (TEDI).
X-ALT-DESC;FMTTYPE=text/html:<p>New Castle County plans to give away t
 rees as part of the Tree for Every Delawarean Initiative (TEDI).</p>\n
URL:https://dnrec.delaware.gov/events/rockwood-park-tree-giveaway/?lan
 g=en
ATTACH:https://dnrec.delaware.gov/events/rockwood-park-tree-giveaway/?
 lang=en
LOCATION:Rockwood Park\, 4651 Washington Street Ext.\, Wilmington
END:VEVENT
END:VCALENDAR
