BEGIN:VCALENDAR
VERSION:2.0
METHOD:PUBLISH
PRODID:-//hacksw/handcal//NONSGML v1.0//EN
BEGIN:VEVENT
DTSTAMP:20260420T170753Z
DTSTART:20250926T150000Z
DTEND:20250926T173000Z
UID:20250926T150000Z-20250926T173000Z-2753@dnrec.delaware.gov
SUMMARY:Glasgow Regional Park Tree Giveaway
DESCRIPTION:New Castle County plans to give away trees as part of the 
 Tree for Every Delawarean Initiative (TEDI).
X-ALT-DESC;FMTTYPE=text/html:<p>New Castle County plans to give away t
 rees as part of the Tree for Every Delawarean Initiative (TEDI).</p>\n
URL:https://dnrec.delaware.gov/events/glasgow-regional-park-tree-givea
 way/?lang=en
ATTACH:https://dnrec.delaware.gov/events/glasgow-regional-park-tree-gi
 veaway/?lang=en
LOCATION:Glasgow Regional Park\, 2275 Pulaski Hwy\, Newark
END:VEVENT
END:VCALENDAR
