BEGIN:VCALENDAR
VERSION:2.0
METHOD:PUBLISH
PRODID:-//hacksw/handcal//NONSGML v1.0//EN
BEGIN:VEVENT
DTSTAMP:20260421T202743Z
DTSTART:20250828T150000Z
DTEND:20250828T160000Z
UID:20250828T150000Z-20250828T160000Z-2749@dnrec.delaware.gov
SUMMARY:Wild About Whales
DESCRIPTION:From the evolution of whales to the value of whale poop\, 
 there’s so much to learn.
X-ALT-DESC;FMTTYPE=text/html:<p>From the evolution of whales to the va
 lue of whale poop\, there’s so much to learn.</p>\n
URL:https://dnrec.delaware.gov/events/wild-about-whales-2/?lang=en
ATTACH:https://dnrec.delaware.gov/events/wild-about-whales-2/?lang=en
LOCATION:DuPont Nature Center\, 2992 Lighthouse Rd.\, Milford
END:VEVENT
END:VCALENDAR
