BEGIN:VCALENDAR
VERSION:2.0
METHOD:PUBLISH
PRODID:-//hacksw/handcal//NONSGML v1.0//EN
BEGIN:VEVENT
DTSTAMP:20260421T220005Z
DTSTART:20250822T170000Z
DTEND:20250822T180000Z
UID:20250822T170000Z-20250822T180000Z-2747@dnrec.delaware.gov
SUMMARY:A New Kind of Seasickness: Marine Debris
DESCRIPTION:Learn about marine debris.
X-ALT-DESC;FMTTYPE=text/html:<p>Learn about marine debris.</p>\n
URL:https://dnrec.delaware.gov/events/a-new-kind-of-seasickness-marine
 -debris-2/?lang=en
ATTACH:https://dnrec.delaware.gov/events/a-new-kind-of-seasickness-mar
 ine-debris-2/?lang=en
LOCATION:DuPont Nature Center\, 2992 Lighthouse Rd.\, Milford
END:VEVENT
END:VCALENDAR
