BEGIN:VCALENDAR
VERSION:2.0
METHOD:PUBLISH
PRODID:-//hacksw/handcal//NONSGML v1.0//EN
BEGIN:VEVENT
DTSTAMP:20260421T202555Z
DTSTART:20250829T150000Z
DTEND:20250829T160000Z
UID:20250829T150000Z-20250829T160000Z-2745@dnrec.delaware.gov
SUMMARY:It's Fun to be a Fish
DESCRIPTION:Swim on in to this program all about fish.
X-ALT-DESC;FMTTYPE=text/html:<p>Swim on in to this program all about f
 ish.</p>\n
URL:https://dnrec.delaware.gov/events/its-fun-to-be-a-fish-3/?lang=en
ATTACH:https://dnrec.delaware.gov/events/its-fun-to-be-a-fish-3/?lang=
 en
LOCATION:DuPont Nature Center\, 2992 Lighthouse Rd.\, Milford
END:VEVENT
END:VCALENDAR
