BEGIN:VCALENDAR
VERSION:2.0
METHOD:PUBLISH
PRODID:-//hacksw/handcal//NONSGML v1.0//EN
BEGIN:VEVENT
DTSTAMP:20260422T024715Z
DTSTART:20250827T130000Z
DTEND:20250827T140000Z
UID:20250827T130000Z-20250827T140000Z-2739@dnrec.delaware.gov
SUMMARY:Beachcombing with DuPont Nature Center Naturalists
DESCRIPTION:Meet at the beach and walk the shoreline with a naturalist
 .
X-ALT-DESC;FMTTYPE=text/html:<p>Meet at the beach and walk the shoreli
 ne with a naturalist.</p>\n
URL:https://dnrec.delaware.gov/events/beachcombing-with-dupont-nature-
 center-naturalists-40/?lang=en
ATTACH:https://dnrec.delaware.gov/events/beachcombing-with-dupont-natu
 re-center-naturalists-40/?lang=en
LOCATION:Slaughter Beach Pavilion\, 359 Bay Avenue\, Milford
END:VEVENT
END:VCALENDAR
