BEGIN:VCALENDAR
VERSION:2.0
METHOD:PUBLISH
PRODID:-//hacksw/handcal//NONSGML v1.0//EN
BEGIN:VEVENT
DTSTAMP:20260421T203217Z
DTSTART:20250830T150000Z
DTEND:20250830T160000Z
UID:20250830T150000Z-20250830T160000Z-2735@dnrec.delaware.gov
SUMMARY:Storybook Saturday
DESCRIPTION:Gather the kids to enjoy story time with our naturalists h
 ere at the Nature Center.
X-ALT-DESC;FMTTYPE=text/html:<p>Gather the kids to enjoy story time wi
 th our naturalists here at the Nature Center.</p>\n
URL:https://dnrec.delaware.gov/events/storybook-saturday-10/?lang=en
ATTACH:https://dnrec.delaware.gov/events/storybook-saturday-10/?lang=e
 n
LOCATION:DuPont Nature Center\, 2992 Lighthouse Rd.\, Milford
END:VEVENT
END:VCALENDAR
