BEGIN:VCALENDAR
VERSION:2.0
METHOD:PUBLISH
PRODID:-//hacksw/handcal//NONSGML v1.0//EN
BEGIN:VEVENT
DTSTAMP:20260425T110430Z
DTSTART:20260916T130000Z
DTEND:20260916T160000Z
UID:20260916T130000Z-20260916T160000Z-2715@dnrec.delaware.gov
SUMMARY:Water Infrastructure Advisory Council
DESCRIPTION:A meeting to discuss clean water\, drinking water\, and st
 ormwater issues.
X-ALT-DESC;FMTTYPE=text/html:<p>A meeting to discuss clean water\, dri
 nking water\, and stormwater issues.</p>\n
URL:https://dnrec.delaware.gov/events/water-infrastructure-advisory-co
 uncil-33/?lang=en
ATTACH:https://dnrec.delaware.gov/events/water-infrastructure-advisory
 -council-33/?lang=en
LOCATION:To Be Announced\, \, Dover
END:VEVENT
END:VCALENDAR
