BEGIN:VCALENDAR
VERSION:2.0
METHOD:PUBLISH
PRODID:-//hacksw/handcal//NONSGML v1.0//EN
BEGIN:VEVENT
DTSTAMP:20260421T202745Z
DTSTART:20251011T130000Z
DTEND:20251011T160000Z
UID:20251011T130000Z-20251011T160000Z-2704@dnrec.delaware.gov
SUMMARY:Kent Conservation District Native Tree Giveaway
DESCRIPTION:Mark your calendar for a planned tree giveaway.
X-ALT-DESC;FMTTYPE=text/html:<p>Mark your calendar for a planned tree 
 giveaway.</p>\n
URL:https://dnrec.delaware.gov/events/kent-conservation-district-nativ
 e-tree-giveaway-2/?lang=en
ATTACH:https://dnrec.delaware.gov/events/kent-conservation-district-na
 tive-tree-giveaway-2/?lang=en
LOCATION:Kent Conservation District\, 1679 S. Dupont Highway\, Dover
END:VEVENT
END:VCALENDAR
