BEGIN:VCALENDAR
VERSION:2.0
METHOD:PUBLISH
PRODID:-//hacksw/handcal//NONSGML v1.0//EN
BEGIN:VEVENT
DTSTAMP:20260421T202742Z
DTSTART:20250822T223000Z
DTEND:20250823T003000Z
UID:20250822T223000Z-20250823T003000Z-2703@dnrec.delaware.gov
SUMMARY:Basic Hunter Education Course
DESCRIPTION:Learn about hunting safely\, hunting ethics\, firearm type
 s\, safe gun handling\, marksmanship\, specialty hunting techniques\, 
 wildlife management\, wildlife identification\, survival and more.
X-ALT-DESC;FMTTYPE=text/html:<p>Learn about hunting safely\, hunting e
 thics\, firearm types\, safe gun handling\, marksmanship\, specialty h
 unting techniques\, wildlife management\, wildlife identification\, su
 rvival and more. </p>\n
URL:https://dnrec.delaware.gov/events/basic-hunter-education-course-37
 /?lang=en
ATTACH:https://dnrec.delaware.gov/events/basic-hunter-education-course
 -37/?lang=en
LOCATION:Ommelanden Hunter Education Training Center\, 1205 River Road
 \, New Castle
END:VEVENT
END:VCALENDAR
