BEGIN:VCALENDAR
VERSION:2.0
METHOD:PUBLISH
PRODID:-//hacksw/handcal//NONSGML v1.0//EN
BEGIN:VEVENT
DTSTAMP:20260424T000208Z
DTSTART:20250513T130000Z
DTEND:20250513T160000Z
UID:20250513T130000Z-20250513T160000Z-2701@dnrec.delaware.gov
SUMMARY:Climate Officers Meeting
DESCRIPTION:A kick-off meeting for a group of climate officers from ke
 y state agencies.
X-ALT-DESC;FMTTYPE=text/html:<p>A kick-off meeting for a group of clim
 ate officers from key state agencies.</p>\n
URL:https://dnrec.delaware.gov/events/climate-officers-meeting-2/?lang
 =en
ATTACH:https://dnrec.delaware.gov/events/climate-officers-meeting-2/?l
 ang=en
LOCATION:St. Jones Reserve\, 818 Kitts Hummock Rd.\, Dover
END:VEVENT
END:VCALENDAR
