BEGIN:VCALENDAR
VERSION:2.0
METHOD:PUBLISH
PRODID:-//hacksw/handcal//NONSGML v1.0//EN
BEGIN:VEVENT
DTSTAMP:20260421T220008Z
DTSTART:20251101T130000Z
DTEND:20251101T160000Z
UID:20251101T130000Z-20251101T160000Z-2669@dnrec.delaware.gov
SUMMARY:City of Dover Tree Giveaway
DESCRIPTION:Mark your calendar for a planned tree giveaway.
X-ALT-DESC;FMTTYPE=text/html:<p>Mark your calendar for a planned tree 
 giveaway.</p>\n
URL:https://dnrec.delaware.gov/events/city-of-dover-tree-giveaway/?lan
 g=en
ATTACH:https://dnrec.delaware.gov/events/city-of-dover-tree-giveaway/?
 lang=en
LOCATION:John W. Pitts Recreational Center\, 10 Electric Ave.\, Dover
END:VEVENT
END:VCALENDAR
