BEGIN:VCALENDAR
VERSION:2.0
METHOD:PUBLISH
PRODID:-//hacksw/handcal//NONSGML v1.0//EN
BEGIN:VEVENT
DTSTAMP:20260421T203212Z
DTSTART:20251011T130000Z
DTEND:20251011T160000Z
UID:20251011T130000Z-20251011T160000Z-2666@dnrec.delaware.gov
SUMMARY:New Castle Conservation District Native Tree Giveaway
DESCRIPTION:Mark your calendar for a planned tree giveaway.
X-ALT-DESC;FMTTYPE=text/html:<p>Mark your calendar for a planned tree 
 giveaway.</p>\n
URL:https://dnrec.delaware.gov/events/new-castle-conservation-district
 -native-tree-giveaway-2/?lang=en
ATTACH:https://dnrec.delaware.gov/events/new-castle-conservation-distr
 ict-native-tree-giveaway-2/?lang=en
LOCATION:New Castle Conservation District\, 2430 Old County Rd.\, Newa
 rk
END:VEVENT
END:VCALENDAR
